BEGIN:VCALENDAR
VERSION:2.0
PRODID:-//Sternfreunde Durmersheim - ECPv6.9.0//NONSGML v1.0//EN
CALSCALE:GREGORIAN
METHOD:PUBLISH
X-WR-CALNAME:Sternfreunde Durmersheim
X-ORIGINAL-URL:https://sternfreunde-durmersheim.de
X-WR-CALDESC:Veranstaltungen für Sternfreunde Durmersheim
REFRESH-INTERVAL;VALUE=DURATION:PT1H
X-Robots-Tag:noindex
X-PUBLISHED-TTL:PT1H
BEGIN:VTIMEZONE
TZID:Europe/Berlin
BEGIN:DAYLIGHT
TZOFFSETFROM:+0100
TZOFFSETTO:+0200
TZNAME:CEST
DTSTART:20260329T010000
END:DAYLIGHT
BEGIN:STANDARD
TZOFFSETFROM:+0200
TZOFFSETTO:+0100
TZNAME:CET
DTSTART:20261025T010000
END:STANDARD
END:VTIMEZONE
BEGIN:VEVENT
DTSTART;TZID=Europe/Berlin:20260108T193000
DTEND;TZID=Europe/Berlin:20260108T213000
DTSTAMP:20260419T185414
CREATED:20230627T103554Z
LAST-MODIFIED:20260108T131650Z
UID:1244-1767900600-1767907800@sternfreunde-durmersheim.de
SUMMARY:Sternwarte im Januar 2026
DESCRIPTION:Sternwarte öffnet um 19:30 nur bei klarem Himmel (maximal bis 21:30)!\n \nWegen des schlechten Wetters öffnet die Sternwarte Durmersheim heute nicht! \nÄnderungen sind möglich\, deshalb sehen Sie hier vor dem Termin hier nochmals rechtzeitig nach! \nAchtung! Zur Zeit stehen im Hof vor der Sternwarte Container (bitte beachten)\, \nSondertermine sind möglich\,  auch in den Ferien\, fragen Sie nach!
URL:https://sternfreunde-durmersheim.de/event/sternwarte-im-november/
LOCATION:Realschule Durmersheim\, Schulstraße 4\, Durmersheim\, Baden-Württemberg\, 76448\, Germany
ORGANIZER;CN="Sternfreunde Durmersheim Sternwarte":MAILTO:SternfreundeDurmersheim@web.de
END:VEVENT
END:VCALENDAR