BEGIN:VCALENDAR
VERSION:2.0
PRODID:-//Sternfreunde Durmersheim - ECPv6.9.0//NONSGML v1.0//EN
CALSCALE:GREGORIAN
METHOD:PUBLISH
X-ORIGINAL-URL:https://sternfreunde-durmersheim.de
X-WR-CALDESC:Veranstaltungen für Sternfreunde Durmersheim
REFRESH-INTERVAL;VALUE=DURATION:PT1H
X-Robots-Tag:noindex
X-PUBLISHED-TTL:PT1H
BEGIN:VTIMEZONE
TZID:Europe/Berlin
BEGIN:DAYLIGHT
TZOFFSETFROM:+0100
TZOFFSETTO:+0200
TZNAME:CEST
DTSTART:20250330T010000
END:DAYLIGHT
BEGIN:STANDARD
TZOFFSETFROM:+0200
TZOFFSETTO:+0100
TZNAME:CET
DTSTART:20251026T010000
END:STANDARD
END:VTIMEZONE
BEGIN:VEVENT
DTSTART;TZID=Europe/Berlin:20250304T193000
DTEND;TZID=Europe/Berlin:20250304T223000
DTSTAMP:20260420T084734
CREATED:20250207T190153Z
LAST-MODIFIED:20250207T190153Z
UID:1569-1741116600-1741127400@sternfreunde-durmersheim.de
SUMMARY:Mitgliederversammlung
DESCRIPTION:Einladung zur  Mitgliederversammlung (Hauptversammlung) am Dienstag\, den 4. März. \nBeginn um 19:30; Ort: Germania-Klause; Durmersheim-Würmersheim (Sportplatz) \n 
URL:https://sternfreunde-durmersheim.de/event/mitgliederversammlung/
LOCATION:Durmersheim/Würmersheim
ORGANIZER;CN="Sternfreunde Durmersheim und Umgebung e.V. Stammtisch":MAILTO:SternfreundeDurmersheim@web.de
END:VEVENT
BEGIN:VEVENT
DTSTART;TZID=Europe/Berlin:20250329T113000
DTEND;TZID=Europe/Berlin:20250329T130000
DTSTAMP:20260420T084734
CREATED:20250310T085546Z
LAST-MODIFIED:20250325T085056Z
UID:1573-1743247800-1743253200@sternfreunde-durmersheim.de
SUMMARY:Partielle Sonnenfinsternis - Astronomietag
DESCRIPTION:29.3. Samstag\, Astronomietag: Partielle Sonnenfinsternis 11:30 – 13:00 \nZum bundeweiten Astronomietag öffnen wir unsere Sternwarte.  Anlass ist die Partielle Sonnenfinsternis am\nSamstag\, den 29. März. Unsere Sternwarte (im Hof der Realschule Durmersheim) wird dafür zwischen 11:30 und 13:00 geöffnet sein.\nUnsere Teleskope verwenden sichere Sonnenfilter zur Beobachtung. Sofern Sie eine Sonnenfinsternisbrille\nhaben\, bringen Sie sich unbedingt mit. Wir hoffen auf gutes Wetter\, sonst ist keine Beobachtung möglich! \nDer Eintritt ist frei (gegen eine Spende haben wir allerdings nichts). Da wir die Besucherzahl begrenzen müssen\,\nmüssen Sie sich bitte über unsere E-Mail (bis 28.3.25)  unter SternfreundeDurmersheim(at)web.de anmelden.\nHinweis (at) = @ ! \nLink zum Astronomietag: https://astronomietag.de/ \n 
URL:https://sternfreunde-durmersheim.de/event/partielle-sonnenfinsternis-astronomietag/
LOCATION:Realschule Durmersheim\, Schulstraße 4\, Durmersheim\, Baden-Württemberg\, 76448\, Germany
ORGANIZER;CN="Sternfreunde Durmersheim Sternwarte":MAILTO:SternfreundeDurmersheim@web.de
END:VEVENT
END:VCALENDAR