BEGIN:VCALENDAR
VERSION:2.0
PRODID:-//Sternfreunde Durmersheim - ECPv6.9.0//NONSGML v1.0//EN
CALSCALE:GREGORIAN
METHOD:PUBLISH
X-ORIGINAL-URL:https://sternfreunde-durmersheim.de
X-WR-CALDESC:Veranstaltungen für Sternfreunde Durmersheim
REFRESH-INTERVAL;VALUE=DURATION:PT1H
X-Robots-Tag:noindex
X-PUBLISHED-TTL:PT1H
BEGIN:VTIMEZONE
TZID:Europe/Berlin
BEGIN:DAYLIGHT
TZOFFSETFROM:+0100
TZOFFSETTO:+0200
TZNAME:CEST
DTSTART:20240331T010000
END:DAYLIGHT
BEGIN:STANDARD
TZOFFSETFROM:+0200
TZOFFSETTO:+0100
TZNAME:CET
DTSTART:20241027T010000
END:STANDARD
END:VTIMEZONE
BEGIN:VEVENT
DTSTART;TZID=Europe/Berlin:20241012T150000
DTEND;TZID=Europe/Berlin:20241012T170000
DTSTAMP:20260420T165525
CREATED:20241004T091009Z
LAST-MODIFIED:20241004T091438Z
UID:1509-1728745200-1728752400@sternfreunde-durmersheim.de
SUMMARY:Neubürger Empfang in Durmersheim
DESCRIPTION:Am Samstag\, den 12. Oktober gibt es den Neubürgerempfang in der Mensa (Realschule) mit Vorstellung der Vereine. Wir bereiten einen kleinen Stand für Sie vor. \nhttp://Veranstaltung Durmersheim Verein(t) \n 
URL:https://sternfreunde-durmersheim.de/event/neubuerger-empfang-in-durmersheim/
LOCATION:Baden-Württemberg
END:VEVENT
BEGIN:VEVENT
DTSTART;TZID=Europe/Berlin:20241019T190000
DTEND;TZID=Europe/Berlin:20241019T220000
DTSTAMP:20260420T165525
CREATED:20231016T155432Z
LAST-MODIFIED:20241015T080455Z
UID:1300-1729364400-1729375200@sternfreunde-durmersheim.de
SUMMARY:Astronomietag im Oktober in Zusammenarbeit mit der VHS-Rastatt
DESCRIPTION:Tag der Astronomie (gemeinsam mit VHS Rastatt)\n19. Oktober 2024\, Samstag\, Beginn 19:00 Uhr\, Realschule / Sternwarte Durmersheim\nAnmeldung bei der VHS-Rastatt: VHS Landkreis Rastatt: Kurssuche (vhs-landkreis-rastatt.de)\n19:00 – 20:30 Uhr: Realschule (Seiteneingang\, Raum A101):\nVortrag von Jürgen Linder: „Das Weltall mit eigenen Augen sehen“\, (ca. 20:00 geht es mit den VHS-Teilnehmern zur Sternwarte!)\,\nab 20:30 Sternwarte öffentlich.  20:30 – 22:00 Uhr: Führungen in der Sternwarte\, Himmelsbeobachtungen. \nWir freuen uns auf ihren Besuch. Sofern Sie nur zur Sternwarte kommen möchten\, teilen Sie uns dies bitte an unsere E-Mail-Adresse (sternfreunde-durmersheim(at)web.de) mit\, Danke! \nFür Mitglieder ist keine VHS-Anmeldung nötig (gerne aber eine Mail\, siehe oben). \nHier noch der Link zum Astronomietag: https://sternfreunde.de/event/astronomietag-2024/
URL:https://sternfreunde-durmersheim.de/event/astronomietag-im-oktober-in-zusammenarbeit-mit-der-vhs-rastatt/
LOCATION:Realschule Durmersheim\, Schulstraße 4\, Durmersheim\, Baden-Württemberg\, 76448\, Germany
ORGANIZER;CN="Sternfreunde Durmersheim Sternwarte":MAILTO:SternfreundeDurmersheim@web.de
END:VEVENT
END:VCALENDAR