BEGIN:VCALENDAR
VERSION:2.0
PRODID:-//Sternfreunde Durmersheim - ECPv6.9.0//NONSGML v1.0//EN
CALSCALE:GREGORIAN
METHOD:PUBLISH
X-WR-CALNAME:Sternfreunde Durmersheim
X-ORIGINAL-URL:https://sternfreunde-durmersheim.de
X-WR-CALDESC:Veranstaltungen für Sternfreunde Durmersheim
REFRESH-INTERVAL;VALUE=DURATION:PT1H
X-Robots-Tag:noindex
X-PUBLISHED-TTL:PT1H
BEGIN:VTIMEZONE
TZID:Europe/Berlin
BEGIN:DAYLIGHT
TZOFFSETFROM:+0100
TZOFFSETTO:+0200
TZNAME:CEST
DTSTART:20240331T010000
END:DAYLIGHT
BEGIN:STANDARD
TZOFFSETFROM:+0200
TZOFFSETTO:+0100
TZNAME:CET
DTSTART:20241027T010000
END:STANDARD
END:VTIMEZONE
BEGIN:VEVENT
DTSTART;TZID=Europe/Berlin:20240809T190000
DTEND;TZID=Europe/Berlin:20240809T230000
DTSTAMP:20260420T193141
CREATED:20240808T092744Z
LAST-MODIFIED:20240808T094842Z
UID:1476-1723230000-1723244400@sternfreunde-durmersheim.de
SUMMARY:Krimi und Sternschnuppen auf dem Merkur in Baden-Baden
DESCRIPTION:Am Freitag\, den 9. August findet in Baden-Baden auf dem Merkur die Krimi-Lesenacht (ab 19:00)  und die Sternschnuppenbeobachtung (bei klarem Himmel ca. 21:30) \nder Sternfreunde Durmersheim statt. \nMehr dazu hier:  Krimi-Kiste-und-Sternschnuppen-Abend in Baden-Baden \nMerkurbahn:  MerkurBergbahn in Baden-Baden – Stadtwerke Baden-Baden (stadtwerke-baden-baden.de)
URL:https://sternfreunde-durmersheim.de/event/krimi-und-sternschnuppen-auf-dem-merkur-in-baden-baden/
LOCATION:Merkur Baden-Baden\, Merkurbahn/Restaurant\, Baden-Baden\, Baden-Württemberg\, Deutschland
END:VEVENT
END:VCALENDAR