BEGIN:VCALENDAR
VERSION:2.0
PRODID:-//Sternfreunde Durmersheim - ECPv6.9.0//NONSGML v1.0//EN
CALSCALE:GREGORIAN
METHOD:PUBLISH
X-ORIGINAL-URL:https://sternfreunde-durmersheim.de
X-WR-CALDESC:Veranstaltungen für Sternfreunde Durmersheim
REFRESH-INTERVAL;VALUE=DURATION:PT1H
X-Robots-Tag:noindex
X-PUBLISHED-TTL:PT1H
BEGIN:VTIMEZONE
TZID:Europe/Berlin
BEGIN:DAYLIGHT
TZOFFSETFROM:+0100
TZOFFSETTO:+0200
TZNAME:CEST
DTSTART:20240331T010000
END:DAYLIGHT
BEGIN:STANDARD
TZOFFSETFROM:+0200
TZOFFSETTO:+0100
TZNAME:CET
DTSTART:20241027T010000
END:STANDARD
END:VTIMEZONE
BEGIN:VEVENT
DTSTART;TZID=Europe/Berlin:20240305T193000
DTEND;TZID=Europe/Berlin:20240305T223000
DTSTAMP:20260421T024207
CREATED:20231016T170035Z
LAST-MODIFIED:20240204T102253Z
UID:1313-1709667000-1709677800@sternfreunde-durmersheim.de
SUMMARY:Stammtisch im März 2024 (Hauptversammlung)
DESCRIPTION:Stammtisch immer der 1. Dienstag im Monat! \nStammtisch ab 19:30  und Hauptversammlung  ab 20:00 in der Germania-Klause / Sportplatz in Würmersheim
URL:https://sternfreunde-durmersheim.de/event/stammtisch-im-januar-2024/
LOCATION:Durmersheim/Würmersheim
ORGANIZER;CN="Sternfreunde Durmersheim und Umgebung e.V. Stammtisch":MAILTO:SternfreundeDurmersheim@web.de
END:VEVENT
BEGIN:VEVENT
DTSTART;TZID=Europe/Berlin:20240307T200000
DTEND;TZID=Europe/Berlin:20240307T213000
DTSTAMP:20260421T024207
CREATED:20221129T131741Z
LAST-MODIFIED:20240306T162538Z
UID:990-1709841600-1709847000@sternfreunde-durmersheim.de
SUMMARY:VHS-Kurs "Den Sternenhimmel erleben" (7.3. und 9.3 Durmersheim/Sternwarte)
DESCRIPTION:VHS-Kurs 7.3. und 9.3. \nDurmersheim: Fr. Funk\, 07245/5150 oder durmersheim(at)vhs-landkreis-rastatt.de \nFällt aus! Neue Termine ab September 2024 möglich! \nVHS Landkreis Rastatt: Astronomie: Sternenhimmel erleben (vhs-landkreis-rastatt.de)
URL:https://sternfreunde-durmersheim.de/event/stammtisch-in-der-germania-klause-in-du-wuermersheim/
LOCATION:Realschule Durmersheim\, Schulstraße 4\, Durmersheim\, Baden-Württemberg\, 76448\, Germany
ORGANIZER;CN="Sternfreunde Durmersheim Sternwarte":MAILTO:SternfreundeDurmersheim@web.de
END:VEVENT
END:VCALENDAR