BEGIN:VCALENDAR
VERSION:2.0
PRODID:-//Sternfreunde Durmersheim - ECPv6.9.0//NONSGML v1.0//EN
CALSCALE:GREGORIAN
METHOD:PUBLISH
X-ORIGINAL-URL:https://sternfreunde-durmersheim.de
X-WR-CALDESC:Veranstaltungen für Sternfreunde Durmersheim
REFRESH-INTERVAL;VALUE=DURATION:PT1H
X-Robots-Tag:noindex
X-PUBLISHED-TTL:PT1H
BEGIN:VTIMEZONE
TZID:Europe/Berlin
BEGIN:DAYLIGHT
TZOFFSETFROM:+0100
TZOFFSETTO:+0200
TZNAME:CEST
DTSTART:20230326T010000
END:DAYLIGHT
BEGIN:STANDARD
TZOFFSETFROM:+0200
TZOFFSETTO:+0100
TZNAME:CET
DTSTART:20231029T010000
END:STANDARD
END:VTIMEZONE
BEGIN:VEVENT
DTSTART;TZID=Europe/Berlin:20231019T180000
DTEND;TZID=Europe/Berlin:20231019T213000
DTSTAMP:20260421T094903
CREATED:20230726T182839Z
LAST-MODIFIED:20231019T085251Z
UID:1264-1697738400-1697751000@sternfreunde-durmersheim.de
SUMMARY:Krimi-Lesung und Himmelsbeobachtung (nur bei klarem Himmel) Merkur Baden-Baden fällt aus!!
DESCRIPTION:Achtung! der folgende Text ist nur zur Info!  Die Veranstaltung findet wegen des schlechten Wetters nicht statt!!!! \nZusammen mit der Krimikiste der Verkehrsbetriebe Baden-Baden gibt es nach der Lesung eine Sternenbeobachtung (siehe unten). \nSollte es klar sein\, dann können Mond\, Saturn\, Jupiter und die Objekte des Herbsthimmels beobachtet werden. \nDie Krimi-Kiste beginnt um 18:00\, endet um ca. 19:00\, danach widmen wir uns dem Thema „Herbstlicher Sternenhimmel“. \nNur bei klarem Himmel! Anmerkung!       Fällt aus\, wegen schlechtem Wetter! \nMerkurBergbahn in Baden-Baden – Stadtwerke Baden-Baden (stadtwerke-baden-baden.de) \nMeldung: Sternengucker und Krimi-Freunde – Stadtwerke Baden-Baden (stadtwerke-baden-baden.de) \n 
URL:https://sternfreunde-durmersheim.de/event/krimi-und-sternschnuppenbeobachtung-nur-bei-klarem-himmel/
LOCATION:Merkur Baden-Baden\, Merkurbahn/Restaurant\, Baden-Baden\, Baden-Württemberg\, Deutschland
END:VEVENT
END:VCALENDAR