BEGIN:VCALENDAR
VERSION:2.0
PRODID:-//Sternfreunde Durmersheim - ECPv6.9.0//NONSGML v1.0//EN
CALSCALE:GREGORIAN
METHOD:PUBLISH
X-WR-CALNAME:Sternfreunde Durmersheim
X-ORIGINAL-URL:https://sternfreunde-durmersheim.de
X-WR-CALDESC:Veranstaltungen für Sternfreunde Durmersheim
REFRESH-INTERVAL;VALUE=DURATION:PT1H
X-Robots-Tag:noindex
X-PUBLISHED-TTL:PT1H
BEGIN:VTIMEZONE
TZID:Europe/Berlin
BEGIN:DAYLIGHT
TZOFFSETFROM:+0100
TZOFFSETTO:+0200
TZNAME:CEST
DTSTART:20230326T010000
END:DAYLIGHT
BEGIN:STANDARD
TZOFFSETFROM:+0200
TZOFFSETTO:+0100
TZNAME:CET
DTSTART:20231029T010000
END:STANDARD
END:VTIMEZONE
BEGIN:VEVENT
DTSTART;TZID=Europe/Berlin:20230926T100000
DTEND;TZID=Europe/Berlin:20230926T113000
DTSTAMP:20260421T110248
CREATED:20230922T135704Z
LAST-MODIFIED:20230922T135704Z
UID:1285-1695722400-1695727800@sternfreunde-durmersheim.de
SUMMARY:Vortrag-Herz-Jesu Ettlingen
DESCRIPTION:Wir möchten auf unseren Vortrag in Ettlingen (Herz-Jesu) hinweisen: \npfarrei.info/pfiffig/pages/pfarrblatt.do?g=es&xsl=2 \nDer Vortrag findet am 26.9.23 (Dienstag) im Bildungswerk in Ettlingen statt. \nBeginn um 10:00\, näheres siehe Link oben! \n\n\n\nBildungswerk Ettlingen Thema: Eine Reise durch das Sonnensystem ? bis zum Ende der Welt Referent: Jürgen Linder
URL:https://sternfreunde-durmersheim.de/event/vortrag-herz-jesu-ettlingen/
LOCATION:Baden-Württemberg
END:VEVENT
END:VCALENDAR