BEGIN:VCALENDAR
VERSION:2.0
PRODID:-//Sternfreunde Durmersheim - ECPv6.9.0//NONSGML v1.0//EN
CALSCALE:GREGORIAN
METHOD:PUBLISH
X-ORIGINAL-URL:https://sternfreunde-durmersheim.de
X-WR-CALDESC:Veranstaltungen für Sternfreunde Durmersheim
REFRESH-INTERVAL;VALUE=DURATION:PT1H
X-Robots-Tag:noindex
X-PUBLISHED-TTL:PT1H
BEGIN:VTIMEZONE
TZID:Europe/Berlin
BEGIN:DAYLIGHT
TZOFFSETFROM:+0100
TZOFFSETTO:+0200
TZNAME:CEST
DTSTART:20260329T010000
END:DAYLIGHT
BEGIN:STANDARD
TZOFFSETFROM:+0200
TZOFFSETTO:+0100
TZNAME:CET
DTSTART:20261025T010000
END:STANDARD
END:VTIMEZONE
BEGIN:VEVENT
DTSTART;TZID=Europe/Berlin:20260203T193000
DTEND;TZID=Europe/Berlin:20260203T223000
DTSTAMP:20260419T185518
CREATED:20230627T101025Z
LAST-MODIFIED:20260108T130418Z
UID:1234-1770147000-1770157800@sternfreunde-durmersheim.de
SUMMARY:Stammtisch im Februar 2026
DESCRIPTION:Dienstag\, 3. Februar: Stammtisch\nAb 19:30 in der Gaststätte Germania-Klause (Sportplatz/Würmersheim).
URL:https://sternfreunde-durmersheim.de/event/stammtisch-im-dezember/
LOCATION:Durmersheim/Würmersheim
ORGANIZER;CN="Sternfreunde Durmersheim und Umgebung e.V. Stammtisch":MAILTO:SternfreundeDurmersheim@web.de
END:VEVENT
END:VCALENDAR