BEGIN:VCALENDAR
VERSION:2.0
PRODID:-//Sternfreunde Durmersheim - ECPv6.9.0//NONSGML v1.0//EN
CALSCALE:GREGORIAN
METHOD:PUBLISH
X-ORIGINAL-URL:https://sternfreunde-durmersheim.de
X-WR-CALDESC:Veranstaltungen für Sternfreunde Durmersheim
REFRESH-INTERVAL;VALUE=DURATION:PT1H
X-Robots-Tag:noindex
X-PUBLISHED-TTL:PT1H
BEGIN:VTIMEZONE
TZID:Europe/Berlin
BEGIN:DAYLIGHT
TZOFFSETFROM:+0100
TZOFFSETTO:+0200
TZNAME:CEST
DTSTART:20230326T010000
END:DAYLIGHT
BEGIN:STANDARD
TZOFFSETFROM:+0200
TZOFFSETTO:+0100
TZNAME:CET
DTSTART:20231029T010000
END:STANDARD
END:VTIMEZONE
BEGIN:VEVENT
DTSTART;TZID=Europe/Berlin:20230825T190000
DTEND;TZID=Europe/Berlin:20230825T223000
DTSTAMP:20260421T134709
CREATED:20230726T183155Z
LAST-MODIFIED:20230730T090950Z
UID:1266-1692990000-1693002600@sternfreunde-durmersheim.de
SUMMARY:Astronomie in Reichental (ein astronomischer Abend)
DESCRIPTION:Am Freitag\, den 25. August halten wir beim Obst- und Gartenbauverein in Reichental einen Vortrag mit dem Titel: \n„Astronomischer Abend“\, Ort ist die die Kelter in Reichental (siehe Webseite). \nBeginn ist um 19:00 Uhr – 20:00 Uhr\, ab etwa 20:30 kann auch mit einem Teleskop beobachtet werden. Eine Beobachtung wird allerdings nur bei klarem Himmel möglich sein!
URL:https://sternfreunde-durmersheim.de/event/astronomie-in-reichental/
LOCATION:Baden-Württemberg
END:VEVENT
END:VCALENDAR