BEGIN:VCALENDAR
VERSION:2.0
PRODID:-//Sternfreunde Durmersheim - ECPv6.9.0//NONSGML v1.0//EN
CALSCALE:GREGORIAN
METHOD:PUBLISH
X-ORIGINAL-URL:https://sternfreunde-durmersheim.de
X-WR-CALDESC:Veranstaltungen für Sternfreunde Durmersheim
REFRESH-INTERVAL;VALUE=DURATION:PT1H
X-Robots-Tag:noindex
X-PUBLISHED-TTL:PT1H
BEGIN:VTIMEZONE
TZID:Europe/Berlin
BEGIN:DAYLIGHT
TZOFFSETFROM:+0100
TZOFFSETTO:+0200
TZNAME:CEST
DTSTART:20230326T010000
END:DAYLIGHT
BEGIN:STANDARD
TZOFFSETFROM:+0200
TZOFFSETTO:+0100
TZNAME:CET
DTSTART:20231029T010000
END:STANDARD
END:VTIMEZONE
BEGIN:VEVENT
DTSTART;TZID=Europe/Berlin:20230810T210000
DTEND;TZID=Europe/Berlin:20230810T223000
DTSTAMP:20260421T134140
CREATED:20230627T102450Z
LAST-MODIFIED:20230627T103912Z
UID:1240-1691701200-1691706600@sternfreunde-durmersheim.de
SUMMARY:Sternwarte im August (geschlossen Ferienzeit)
DESCRIPTION:Unsere Sternwarte ist jeden zweiten Donnerstag für Sie geöffnet\, außer an Feiertagen\,\n Schulferien oder Lockdowns! \nDie Sternwarte bleibt geschlossen wegen der Sommerzeit (Juni\,Juli und August) und Sommerferien \nSondertermine kann es auch in den Ferien geben\, fragen Sie nach!
URL:https://sternfreunde-durmersheim.de/event/sternwarte-im-august-geschlossen-ferienzeit/
LOCATION:Realschule Durmersheim\, Schulstraße 4\, Durmersheim\, Baden-Württemberg\, 76448\, Germany
ORGANIZER;CN="Sternfreunde Durmersheim und Umgebung e.V. Stammtisch":MAILTO:SternfreundeDurmersheim@web.de
END:VEVENT
END:VCALENDAR