BEGIN:VCALENDAR
VERSION:2.0
PRODID:-//Sternfreunde Durmersheim - ECPv6.9.0//NONSGML v1.0//EN
CALSCALE:GREGORIAN
METHOD:PUBLISH
X-ORIGINAL-URL:https://sternfreunde-durmersheim.de
X-WR-CALDESC:Veranstaltungen für Sternfreunde Durmersheim
REFRESH-INTERVAL;VALUE=DURATION:PT1H
X-Robots-Tag:noindex
X-PUBLISHED-TTL:PT1H
BEGIN:VTIMEZONE
TZID:Europe/Berlin
BEGIN:DAYLIGHT
TZOFFSETFROM:+0100
TZOFFSETTO:+0200
TZNAME:CEST
DTSTART:20230326T010000
END:DAYLIGHT
BEGIN:STANDARD
TZOFFSETFROM:+0200
TZOFFSETTO:+0100
TZNAME:CET
DTSTART:20231029T010000
END:STANDARD
END:VTIMEZONE
BEGIN:VEVENT
DTSTART;TZID=Europe/Berlin:20230801T193000
DTEND;TZID=Europe/Berlin:20230801T223000
DTSTAMP:20260421T134048
CREATED:20221013T173029Z
LAST-MODIFIED:20230726T181959Z
UID:300-1690918200-1690929000@sternfreunde-durmersheim.de
SUMMARY:Stammtisch August 2023 "Rastatt Murgdamm"
DESCRIPTION:Dienstag\, 1. August: Stammtisch\n \nWegen Urlaub der Germania in Durmersheim weichen wir am 1. August „Zum Murgdamm“ nach Rastatt aus!
URL:https://sternfreunde-durmersheim.de/event/stammtisch-november-2022/
LOCATION:Zum Murgdamm Rastatt\, Bittlerweg 1\, Rastatt\, BW\, 76437\, Deutschland
ORGANIZER;CN="Sternfreunde Durmersheim und Umgebung e.V. Stammtisch":MAILTO:SternfreundeDurmersheim@web.de
END:VEVENT
END:VCALENDAR